View In:
ArcGIS JavaScript
ArcGIS Online Map Viewer
ArcGIS Earth
Service Description: This service provides a static base map of Montana designed to be viewed at a scale of approximately 1:100,000. Data shown on the map includes public land ownership, selected federal and state managed areas, lakes, streams, roads, the Public Land Survey system, 50-foot contours, shaded relief, and selected buildings and structures. The maps were produced by the Montana State Library with the latest data that was available in January 2016. Please see the GIS Data List at the Montana State Library for a more complete description of the service. The map legend for the service is available at https://ftpgeoinfo.msl.mt.gov/Documents/Metadata/Reference100k.tif
Name: MSL/Reference100k
Description: This service provides a static base map of Montana designed to be viewed at a scale of approximately 1:100,000. Data shown on the map includes public land ownership, selected federal and state managed areas, lakes, streams, roads, the Public Land Survey system, 50-foot contours, shaded relief, and selected buildings and structures. The maps were produced by the Montana State Library with the latest data that was available in January 2016. Please see the GIS Data List at the Montana State Library for a more complete description of the service. The map legend for the service is available at https://ftpgeoinfo.msl.mt.gov/Documents/Metadata/Reference100k.tif
Single Fused Map Cache: false
Extent:
XMin: -1.3033931742026124E7
YMin: 5463689.211882384
XMax: -1.1570498542285582E7
YMax: 6277538.007676628
Spatial Reference: 102100
(3857)
LatestVCSWkid(0)
Initial Extent:
XMin: -1.3033931742026124E7
YMin: 5463689.211882384
XMax: -1.1570498542285582E7
YMax: 6277538.007676628
Spatial Reference: 102100
(3857)
LatestVCSWkid(0)
Full Extent:
XMin: -1.3033931742026124E7
YMin: 5463689.211882384
XMax: -1.1570498542285582E7
YMax: 6277538.007676628
Spatial Reference: 102100
(3857)
LatestVCSWkid(0)
Pixel Size X: 9.680263530434802
Pixel Size Y: 9.680263530434798
Band Count: 3
Pixel Type: U8
RasterFunction Infos: {"rasterFunctionInfos": [{
"name": "None",
"description": "",
"help": ""
}]}
Mensuration Capabilities: Basic
Inspection Capabilities:
Has Histograms: false
Has Colormap: false
Has Multi Dimensions : false
Rendering Rule:
Min Scale: 0
Max Scale: 0
Resampling: false
Copyright Text:
Service Data Type: esriImageServiceDataTypeRGB
Min Values: N/A
Max Values: N/A
Mean Values: N/A
Standard Deviation Values: N/A
Object ID Field: OBJECTID
Fields:
-
OBJECTID
(
type: esriFieldTypeOID, alias: OBJECTID
)
-
Shape
(
type: esriFieldTypeGeometry, alias: Shape
)
-
Name
(
type: esriFieldTypeString, alias: Name, length: 200
)
-
MinPS
(
type: esriFieldTypeDouble, alias: MinPS
)
-
MaxPS
(
type: esriFieldTypeDouble, alias: MaxPS
)
-
LowPS
(
type: esriFieldTypeDouble, alias: LowPS
)
-
HighPS
(
type: esriFieldTypeDouble, alias: HighPS
)
-
Category
(
type: esriFieldTypeInteger, alias: Category
, Coded Values:
[0: Unknown]
, [1: Primary]
, [2: Overview]
, ...6 more...
)
-
Tag
(
type: esriFieldTypeString, alias: Tag, length: 100
)
-
GroupName
(
type: esriFieldTypeString, alias: GroupName, length: 100
)
-
ProductName
(
type: esriFieldTypeString, alias: ProductName, length: 100
)
-
CenterX
(
type: esriFieldTypeDouble, alias: CenterX
)
-
CenterY
(
type: esriFieldTypeDouble, alias: CenterY
)
-
ZOrder
(
type: esriFieldTypeInteger, alias: ZOrder
)
-
Shape_Length
(
type: esriFieldTypeDouble, alias: Shape_Length
)
-
Shape_Area
(
type: esriFieldTypeDouble, alias: Shape_Area
)
Default Mosaic Method: Northwest
Allowed Mosaic Methods: NorthWest,Center,LockRaster,ByAttribute,Nadir,Viewpoint,Seamline,None
SortField:
SortValue: null
Mosaic Operator: First
Default Compression Quality: 75
Default Resampling Method: Bilinear
Max Record Count: 1000
Max Image Height: 4100
Max Image Width: 15000
Max Download Image Count: 20
Max Mosaic Image Count: 20
Allow Raster Function: true
Allow Copy: true
Allow Analysis: true
Allow Compute TiePoints: false
Supports Statistics: true
Supports Advanced Queries: true
Use StandardizedQueries: true
Raster Type Infos:
Name: Raster Dataset
Description: Supports all ArcGIS Raster Datasets
Help:
Has Raster Attribute Table: false
Edit Fields Info: null
Ownership Based AccessControl For Rasters: null
Child Resources:
Info
Statistics
Key Properties
Legend
Raster Function Infos
Supported Operations:
Export Image
Query
Identify
Measure
Compute Histograms
Compute Statistics Histograms
Get Samples
Compute Class Statistics
Query GPS Info
Find Images
Image to Map
Map to Image
Measure from Image
Image to Map Multiray
Query Boundary
Compute Pixel Location
Compute Angles
Validate
Project