This raster dataset represents the spatial distribution of the number of days in which the daily minimum temperature is greater than 32 degrees fahrenheit based on a 5 in 10 year probablility. This data set differs form the other data in this collection in that cryic soils data has been embedded into the raster.<\/span><\/p><\/div><\/div>",
"name": "MSL/msl_misc_frost_free_days_map_v1",
"description": "This raster dataset represents the spatial distribution of the number of days in which the daily minimum temperature is greater than 32 degrees fahrenheit based on a 5 in 10 year probablility. This data set differs form the other data in this collection in that cryic soils data has been embedded into the raster.<\/span><\/p><\/div><\/div>",
"extent": {
"xmin": 93147.41634170496,
"ymin": -29676.03315539658,
"xmax": 1073907.4163417048,
"ymax": 674333.9668446034,
"spatialReference": {
"wkid": 103093,
"latestWkid": 6514
}
},
"initialExtent": {
"xmin": 93147.41634170496,
"ymin": -29676.03315539658,
"xmax": 1073907.4163417048,
"ymax": 674333.9668446034,
"spatialReference": {
"wkid": 103093,
"latestWkid": 6514
}
},
"fullExtent": {
"xmin": 93147.41634170496,
"ymin": -29676.03315539658,
"xmax": 1073907.4163417048,
"ymax": 674333.9668446034,
"spatialReference": {
"wkid": 103093,
"latestWkid": 6514
}
},
"sortableFields": "",
"bandCount": 1,
"pixelType": "U8",
"minValues": [
14
],
"maxValues": [
154
],
"meanValues": [
100.47565416108588
],
"stdvValues": [
28.42134270279121
],
"serviceProperties": "Center<\/MosaicMethod>First<\/MosaicOperator>true<\/SortAscending><\/LockImageID><\/TileOrderField>0<\/TileOrderBase>0.000000<\/AvgImageSpacingX>0.000000<\/AvgImageSpacingY>0.0<\/ViewPointX>0.0<\/ViewPointY>0.0<\/ViewPointDefShiftX>0.0<\/ViewPointDefShiftY>None<\/CompressionMethod>75<\/CompressionQuality>0.010000<\/CompressionTolerance>Bilinear<\/SamplingMethod><\/ImageServiceProperties><\/ImageServer>",
"allowedFields": "",
"hasMultidimensions": false,
"pixelSizeX": 29.999999999999993,
"pixelSizeY": 30,
"meanPixelSize": 29.999999999999996,
"datasetFormat": "FGDBR",
"uncompressedSize": 767183164,
"blockWidth": 128,
"blockHeight": 128,
"compressionType": "LZ77",
"bandNames": [
"Band_1"
],
"allowCopy": true,
"allowAnalysis": true,
"itemAccess": false,
"inspectionCapabilities": "",
"minPixelSize": 0,
"maxPixelSize": 0,
"copyrightText": "NRCS, Bozeman, MT",
"serviceDataType": "esriImageServiceDataTypeThematic",
"serviceSourceType": "esriImageServiceSourceTypeDataset",
"objectIdField": "",
"fields": [],
"capabilities": "Mensuration,Image,Metadata",
"defaultMosaicMethod": "Center",
"allowedMosaicMethods": "",
"sortField": "",
"sortValue": null,
"sortAscending": true,
"mosaicOperator": "First",
"defaultCompressionQuality": 75,
"defaultResamplingMethod": "Bilinear",
"maxImageHeight": 4100,
"maxImageWidth": 15000,
"allowRasterFunction": true,
"rasterFunctionInfos": [
{
"name": "None",
"description": "Make a Raster or Raster Dataset into a Function Raster Dataset.",
"help": ""
},
{
"name": "DkBlu2YellowUniqueValuesReMove",
"description": "A raster function template.",
"help": ""
}
],
"rasterTypeInfos": [
{
"name": "Raster Dataset",
"description": "Supports all ArcGIS Raster Datasets",
"help": ""
}
],
"mensurationCapabilities": "Basic",
"hasHistograms": true,
"hasColormap": false,
"hasRasterAttributeTable": true,
"minScale": 0,
"maxScale": 0,
"exportTilesAllowed": false,
"supportsStatistics": false,
"supportsAdvancedQueries": false,
"editFieldsInfo": null,
"ownershipBasedAccessControlForRasters": null,
"allowComputeTiePoints": false,
"useStandardizedQueries": true,
"advancedQueryCapabilities": {
"useStandardizedQueries": true,
"supportsStatistics": false,
"supportsOrderBy": false,
"supportsDistinct": false,
"supportsPagination": false
},
"spatialReference": {
"wkid": 103093,
"latestWkid": 6514
},
"resampling": false
}